BEGIN:VCALENDAR
VERSION:2.0
PRODID:-//MES Dreieich - ECPv6.15.13.1//NONSGML v1.0//EN
CALSCALE:GREGORIAN
METHOD:PUBLISH
X-WR-CALNAME:MES Dreieich
X-ORIGINAL-URL:https://mes-dreieich.de
X-WR-CALDESC:Veranstaltungen für MES Dreieich
REFRESH-INTERVAL;VALUE=DURATION:PT1H
X-Robots-Tag:noindex
X-PUBLISHED-TTL:PT1H
BEGIN:VTIMEZONE
TZID:Europe/Berlin
BEGIN:DAYLIGHT
TZOFFSETFROM:+0100
TZOFFSETTO:+0200
TZNAME:CEST
DTSTART:20200329T010000
END:DAYLIGHT
BEGIN:STANDARD
TZOFFSETFROM:+0200
TZOFFSETTO:+0100
TZNAME:CET
DTSTART:20201025T010000
END:STANDARD
BEGIN:DAYLIGHT
TZOFFSETFROM:+0100
TZOFFSETTO:+0200
TZNAME:CEST
DTSTART:20210328T010000
END:DAYLIGHT
BEGIN:STANDARD
TZOFFSETFROM:+0200
TZOFFSETTO:+0100
TZNAME:CET
DTSTART:20211031T010000
END:STANDARD
BEGIN:DAYLIGHT
TZOFFSETFROM:+0100
TZOFFSETTO:+0200
TZNAME:CEST
DTSTART:20220327T010000
END:DAYLIGHT
BEGIN:STANDARD
TZOFFSETFROM:+0200
TZOFFSETTO:+0100
TZNAME:CET
DTSTART:20221030T010000
END:STANDARD
BEGIN:DAYLIGHT
TZOFFSETFROM:+0100
TZOFFSETTO:+0200
TZNAME:CEST
DTSTART:20230326T010000
END:DAYLIGHT
BEGIN:STANDARD
TZOFFSETFROM:+0200
TZOFFSETTO:+0100
TZNAME:CET
DTSTART:20231029T010000
END:STANDARD
BEGIN:DAYLIGHT
TZOFFSETFROM:+0100
TZOFFSETTO:+0200
TZNAME:CEST
DTSTART:20240331T010000
END:DAYLIGHT
BEGIN:STANDARD
TZOFFSETFROM:+0200
TZOFFSETTO:+0100
TZNAME:CET
DTSTART:20241027T010000
END:STANDARD
BEGIN:DAYLIGHT
TZOFFSETFROM:+0100
TZOFFSETTO:+0200
TZNAME:CEST
DTSTART:20250330T010000
END:DAYLIGHT
BEGIN:STANDARD
TZOFFSETFROM:+0200
TZOFFSETTO:+0100
TZNAME:CET
DTSTART:20251026T010000
END:STANDARD
BEGIN:DAYLIGHT
TZOFFSETFROM:+0100
TZOFFSETTO:+0200
TZNAME:CEST
DTSTART:20260329T010000
END:DAYLIGHT
BEGIN:STANDARD
TZOFFSETFROM:+0200
TZOFFSETTO:+0100
TZNAME:CET
DTSTART:20261025T010000
END:STANDARD
BEGIN:DAYLIGHT
TZOFFSETFROM:+0100
TZOFFSETTO:+0200
TZNAME:CEST
DTSTART:20270328T010000
END:DAYLIGHT
BEGIN:STANDARD
TZOFFSETFROM:+0200
TZOFFSETTO:+0100
TZNAME:CET
DTSTART:20271031T010000
END:STANDARD
END:VTIMEZONE
BEGIN:VTIMEZONE
TZID:Europe/Paris
BEGIN:DAYLIGHT
TZOFFSETFROM:+0100
TZOFFSETTO:+0200
TZNAME:CEST
DTSTART:20190331T010000
END:DAYLIGHT
BEGIN:STANDARD
TZOFFSETFROM:+0200
TZOFFSETTO:+0100
TZNAME:CET
DTSTART:20191027T010000
END:STANDARD
BEGIN:DAYLIGHT
TZOFFSETFROM:+0100
TZOFFSETTO:+0200
TZNAME:CEST
DTSTART:20200329T010000
END:DAYLIGHT
BEGIN:STANDARD
TZOFFSETFROM:+0200
TZOFFSETTO:+0100
TZNAME:CET
DTSTART:20201025T010000
END:STANDARD
BEGIN:DAYLIGHT
TZOFFSETFROM:+0100
TZOFFSETTO:+0200
TZNAME:CEST
DTSTART:20210328T010000
END:DAYLIGHT
BEGIN:STANDARD
TZOFFSETFROM:+0200
TZOFFSETTO:+0100
TZNAME:CET
DTSTART:20211031T010000
END:STANDARD
END:VTIMEZONE
BEGIN:VEVENT
DTSTART;VALUE=DATE:20260330
DTEND;VALUE=DATE:20260414
DTSTAMP:20260424T175956
CREATED:20240110T070932Z
LAST-MODIFIED:20251126T131748Z
UID:4529-1774828800-1776124799@mes-dreieich.de
SUMMARY:Osterferien
DESCRIPTION:Am 27. 03. 2026\nendet der Unterricht für die Vollzeit-Schulformen nach der 3. Stunde
URL:https://mes-dreieich.de/kalendereintrag/osterferien/
CATEGORIES:Für Interessierte,Für Schüler
END:VEVENT
BEGIN:VEVENT
DTSTART;VALUE=DATE:20260216
DTEND;VALUE=DATE:20260218
DTSTAMP:20260424T175956
CREATED:20250110T082007Z
LAST-MODIFIED:20251126T131438Z
UID:5429-1771200000-1771372799@mes-dreieich.de
SUMMARY:Bewegliche Ferientage (Rosenmontag und Faschingsdienstag)
DESCRIPTION:Aufgrund beweglicher Ferientage findet am 16. und 17.02.2026 kein Unterricht statt.
URL:https://mes-dreieich.de/kalendereintrag/bewegliche-ferientage-rosenmontag-bis-aschermittwoch/
CATEGORIES:Für Interessierte,Für Schüler
END:VEVENT
BEGIN:VEVENT
DTSTART;VALUE=DATE:20260130
DTEND;VALUE=DATE:20260131
DTSTAMP:20260424T175956
CREATED:20240112T171713Z
LAST-MODIFIED:20251126T132307Z
UID:3471-1769731200-1769817599@mes-dreieich.de
SUMMARY:Zeugnisausgabe 1. Halbjahr
DESCRIPTION:Die Halbjahreszeugnisse werden ausgegeben.\nFür die Vollzeitschulformen endet der Unterricht nach der dritten Stunde.
URL:https://mes-dreieich.de/kalendereintrag/zeugnisausgabe-2/
CATEGORIES:Für Schüler
END:VEVENT
BEGIN:VEVENT
DTSTART;TZID=Europe/Berlin:20260123T090000
DTEND;TZID=Europe/Berlin:20260123T130000
DTSTAMP:20260424T175956
CREATED:20251114T102303Z
LAST-MODIFIED:20260112T135520Z
UID:7793-1769158800-1769173200@mes-dreieich.de
SUMMARY:Praxistag im Beruflichen Gymnasium und der Fachoberschule
DESCRIPTION:Am Freitag\, 23. Januar 2026 öffnet die MES von 9.00 bis 13.00 Uhr zudem wieder ihre Zukunftswerkstatt. Schülerinnen und Schüler haben hier die Gelegenheit\, einen Tag an der MES zu verbringen\, um direkte Einblick in die Schwerpunktfächer und das Schulleben an der Max-Eyth-Schule zu gewinnen. \nEine Anmeldung zur Zukunftswerkstatt bis 15.12.2025 über kontakt@mes-dreieich.de wird erbeten. \nDie Max-Eyth-Schule freut sich auf Ihren Besuch!
URL:https://mes-dreieich.de/kalendereintrag/praxistag-im-beruflichen-gymnasium/
CATEGORIES:Für Interessierte
END:VEVENT
BEGIN:VEVENT
DTSTART;VALUE=DATE:20251222
DTEND;VALUE=DATE:20260110
DTSTAMP:20260424T175956
CREATED:20240902T101437Z
LAST-MODIFIED:20250311T112302Z
UID:3469-1766361600-1768003199@mes-dreieich.de
SUMMARY:Weihnachtsferien
DESCRIPTION:
URL:https://mes-dreieich.de/kalendereintrag/weihnachtsferien/
CATEGORIES:Für Interessierte,Für Schüler
END:VEVENT
BEGIN:VEVENT
DTSTART;TZID=Europe/Berlin:20251209T130000
DTEND;TZID=Europe/Berlin:20251209T150000
DTSTAMP:20260424T175956
CREATED:20251102T183821Z
LAST-MODIFIED:20251102T184223Z
UID:7762-1765285200-1765292400@mes-dreieich.de
SUMMARY:MES DIY Day
DESCRIPTION:MES DIY Day – ein gemütlicher Nachmittag zum Basteln und Kreativwerden.\nWir bieten zwei Methoden an\, um eigene Schlüsselanhänger zu gestalten: Decoden (selbstaushärtende Silikoncreme mit Verzierung) und Schrumpffolie\nFür den DIY Day bitten wir die SuS um eine kurze Anmeldung über Forms\, damit wir genügend Material einplanen können. \nDienstag\, 09.12.\, Raum 3.115 13:00-15:00 Uhr
URL:https://mes-dreieich.de/kalendereintrag/mes-diy-day/
CATEGORIES:Für Schüler
END:VEVENT
BEGIN:VEVENT
DTSTART;TZID=Europe/Berlin:20251204T183000
DTEND;TZID=Europe/Berlin:20251204T200000
DTSTAMP:20260424T175956
CREATED:20251114T102159Z
LAST-MODIFIED:20251114T102159Z
UID:7791-1764873000-1764878400@mes-dreieich.de
SUMMARY:Infotag Berufliches Gymnasium und Fachoberschule
DESCRIPTION:Am Donnerstag\, 4. Dezember 2025\, lädt die Max-Eyth-Schule interessiere Schülerinnen und Schüler sowie deren Eltern zu einem Informationsabend im Beruflichen Gymnasium und der Fachoberschule ein. \nGemeinsam mit Schülerinnen und Schülern der MES informieren Lehrkräfte und die Schulleitung an diesem Abend über die angebotenen Schwerpunktfächer Wirtschaft (bilingual)\, Biotechnik\, Informatik\, Gesundheit sowie Maschinenbau und die unterschiedlichen Wege zum Abitur. \nDie Veranstaltung beginnt um 18.30 Uhr und findet in der Aula des HLL (Haus des lebenslangen Lernens) statt.
URL:https://mes-dreieich.de/kalendereintrag/infotag-berufliches-gymnasium-und-fachoberschule/
CATEGORIES:Für Interessierte
END:VEVENT
BEGIN:VEVENT
DTSTART;TZID=Europe/Berlin:20251201T130000
DTEND;TZID=Europe/Berlin:20251201T160000
DTSTAMP:20260424T175956
CREATED:20251102T183706Z
LAST-MODIFIED:20251102T184155Z
UID:7760-1764594000-1764604800@mes-dreieich.de
SUMMARY:Anime-Treff 2
DESCRIPTION:Anime-Treff 2 – die zweite Runde unseres Anime-Treffs\, diesmal mit besonderem Programm und zusätzlichem Gaming-Raum. \nRäume 3.115 und 3.107  13:00-16:00 Uhr
URL:https://mes-dreieich.de/kalendereintrag/anime-treff-2/
CATEGORIES:Für Schüler
END:VEVENT
BEGIN:VEVENT
DTSTART;VALUE=DATE:20251106
DTEND;VALUE=DATE:20251107
DTSTAMP:20260424T175956
CREATED:20250704T151701Z
LAST-MODIFIED:20251024T084251Z
UID:4659-1762387200-1762473599@mes-dreieich.de
SUMMARY:Pädagogischer Tag
DESCRIPTION:Pädagogischer Tag für das Kollegium. \nAn diesem Tag findet kein Unterricht statt.
URL:https://mes-dreieich.de/kalendereintrag/paedagogischer-tag/
CATEGORIES:Für Interessierte,Für Schüler
END:VEVENT
BEGIN:VEVENT
DTSTART;TZID=Europe/Berlin:20251030T183000
DTEND;TZID=Europe/Berlin:20251030T200000
DTSTAMP:20260424T175956
CREATED:20251024T083515Z
LAST-MODIFIED:20251024T092523Z
UID:7657-1761849000-1761854400@mes-dreieich.de
SUMMARY:Elternabend zum Thema Mediensucht
DESCRIPTION:Ist das Medienverhalten meines Kindes in Ordnung? Frau Laura Bender vom Suchthilfezentrum Wildhof wird über Social Media und Videospiele referieren. Fragen sind willkommen.\n \n30.10.2025\, 18.30 bis 20.00 Uhr im Raum 3.107\n \nkeine Anmeldung erforderlich
URL:https://mes-dreieich.de/kalendereintrag/freiwilliger-elternabend-zum-thema-mediensucht/
CATEGORIES:Für Interessierte,Für Schüler
END:VEVENT
BEGIN:VEVENT
DTSTART;VALUE=DATE:20251006
DTEND;VALUE=DATE:20251018
DTSTAMP:20260424T175956
CREATED:20240912T160617Z
LAST-MODIFIED:20250311T112200Z
UID:3463-1759708800-1760745599@mes-dreieich.de
SUMMARY:Herbstferien
DESCRIPTION:
URL:https://mes-dreieich.de/kalendereintrag/herbstferien/
CATEGORIES:Für Interessierte,Für Schüler
END:VEVENT
BEGIN:VEVENT
DTSTART;VALUE=DATE:20250707
DTEND;VALUE=DATE:20250816
DTSTAMP:20260424T175956
CREATED:20240110T081107Z
LAST-MODIFIED:20250311T112106Z
UID:3013-1751846400-1755302399@mes-dreieich.de
SUMMARY:Sommerferien
DESCRIPTION:
URL:https://mes-dreieich.de/kalendereintrag/sommerferien/
CATEGORIES:Für Interessierte,Für Schüler
END:VEVENT
BEGIN:VEVENT
DTSTART;TZID=Europe/Berlin:20250701T100000
DTEND;TZID=Europe/Berlin:20250701T130000
DTSTAMP:20260424T175956
CREATED:20250518T071828Z
LAST-MODIFIED:20250627T102623Z
UID:4534-1751364000-1751374800@mes-dreieich.de
SUMMARY:Einschulung Berufliches Gymnasium
DESCRIPTION:Beginn: 10:00 Uhr in der Aula
URL:https://mes-dreieich.de/kalendereintrag/einschulung-berufliches-gymnasium/
CATEGORIES:Für Interessierte,Für Schüler
END:VEVENT
BEGIN:VEVENT
DTSTART;TZID=Europe/Berlin:20250701T083000
DTEND;TZID=Europe/Berlin:20250701T093000
DTSTAMP:20260424T175956
CREATED:20240704T122739Z
LAST-MODIFIED:20250630T115321Z
UID:6874-1751358600-1751362200@mes-dreieich.de
SUMMARY:Einschulung Berufsorientierungsjahr und Berufsvorbereitungsjahr
DESCRIPTION:Beginn 8:30 Uhr in der Aula
URL:https://mes-dreieich.de/kalendereintrag/einschulung-berufsorientierungsjahr-und-berufsvorbereitungsjahr/
CATEGORIES:Für Interessierte,Für Schüler
END:VEVENT
BEGIN:VEVENT
DTSTART;TZID=Europe/Berlin:20250630T100000
DTEND;TZID=Europe/Berlin:20250630T103000
DTSTAMP:20260424T175957
CREATED:20240518T071750Z
LAST-MODIFIED:20250630T115229Z
UID:4532-1751277600-1751279400@mes-dreieich.de
SUMMARY:Einschulung Fachoberschule
DESCRIPTION:Beginn: 10:00 Uhr in der Aula
URL:https://mes-dreieich.de/kalendereintrag/einschulung-fachoberschule/
CATEGORIES:Für Interessierte,Für Schüler
END:VEVENT
BEGIN:VEVENT
DTSTART;VALUE=DATE:20241003
DTEND;VALUE=DATE:20241004
DTSTAMP:20260424T175957
CREATED:20240902T110453Z
LAST-MODIFIED:20240916T084927Z
UID:4895-1727913600-1727999999@mes-dreieich.de
SUMMARY:Tag der deutschen Einheit
DESCRIPTION:Aufgrund des Feiertages findet an diesem Tag kein Unterricht statt.
URL:https://mes-dreieich.de/kalendereintrag/tag-der-deutschen-einheit/
CATEGORIES:Für Interessierte,Für Schüler
END:VEVENT
BEGIN:VEVENT
DTSTART;VALUE=DATE:20240710
DTEND;VALUE=DATE:20240711
DTSTAMP:20260424T175957
CREATED:20240429T060304Z
LAST-MODIFIED:20240429T060304Z
UID:6657-1720569600-1720655999@mes-dreieich.de
SUMMARY:Sportfest
DESCRIPTION:
URL:https://mes-dreieich.de/kalendereintrag/sportfest/
CATEGORIES:Für Schüler
END:VEVENT
BEGIN:VEVENT
DTSTART;TZID=Europe/Berlin:20240709T083000
DTEND;TZID=Europe/Berlin:20240709T090000
DTSTAMP:20260424T175957
CREATED:20240520T103355Z
LAST-MODIFIED:20240704T122830Z
UID:4553-1720513800-1720515600@mes-dreieich.de
SUMMARY:Einschulung Berufsfachschule
DESCRIPTION:Beginn 8:30 in der Aula
URL:https://mes-dreieich.de/kalendereintrag/einschulung-boj-bvj-boj/
CATEGORIES:Für Interessierte,Für Schüler
END:VEVENT
BEGIN:VEVENT
DTSTART;TZID=Europe/Berlin:20240228T091500
DTEND;TZID=Europe/Berlin:20240228T130000
DTSTAMP:20260424T175957
CREATED:20240209T122753Z
LAST-MODIFIED:20240209T122753Z
UID:6584-1709111700-1709125200@mes-dreieich.de
SUMMARY:Workshoptag-Maschinenbau
DESCRIPTION:
URL:https://mes-dreieich.de/kalendereintrag/workshoptag-maschinenbau/
CATEGORIES:Für Interessierte
END:VEVENT
BEGIN:VEVENT
DTSTART;TZID=Europe/Berlin:20240124T183000
DTEND;TZID=Europe/Berlin:20240124T193000
DTSTAMP:20260424T175957
CREATED:20241004T100423Z
LAST-MODIFIED:20241112T142414Z
UID:5349-1706121000-1706124600@mes-dreieich.de
SUMMARY:MES Infoabend - online!
DESCRIPTION:Maschinenbau? Informatik? Biotechnik? Gesundheit/Medizin? Wirtschaft? \nSie interessieren sich für die Fachoberschule oder das Berufliche Gymnasium an der Max-Eyth-Schule? Dann kommen Sie doch einfach online zu uns. \nHerr Mihailescu und Herr Mohr präsentieren die Schule\, stellen die verschiedenen Schulformen und Schwerpunkte vor und beantworten all Ihre Fragen. \nAm Mittwoch\, den 28.01.2025\, von 18:30 bis ca. 19:30 Uhr gelangen Sie hier zur Onlineveranstaltung. \nSie können über die Microsoft Teams App (mobil) oder über Ihren Browser teilnehmen. Ein Zugriff auf Kamera und Mikrofon kann hilfreich sein\, ist jedoch nicht erforderlich. \nWir freuen uns auf Sie.
URL:https://mes-dreieich.de/kalendereintrag/mes-infoabend-online/
CATEGORIES:Für Interessierte
END:VEVENT
BEGIN:VEVENT
DTSTART;TZID=Europe/Berlin:20231125T100000
DTEND;TZID=Europe/Berlin:20231125T140000
DTSTAMP:20260424T175957
CREATED:20230802T105849Z
LAST-MODIFIED:20230915T083443Z
UID:5097-1700906400-1700920800@mes-dreieich.de
SUMMARY:Tag der offenen Tür
DESCRIPTION:Die Max-Eyth-Schule öffnet am \nSamstag\, 25.November 10:00-14:00 Uhr \nihre Türen und gewährt Einblick in das Schulleben. \nInteressierte Eltern und Schülerinnen und Schüler können sich über das Bildungsangebot der MES informieren.
URL:https://mes-dreieich.de/kalendereintrag/tag-der-offenen-tuer-2/
CATEGORIES:Für Interessierte,Für Schüler
END:VEVENT
BEGIN:VEVENT
DTSTART;TZID=Europe/Berlin:20231004T080000
DTEND;TZID=Europe/Berlin:20231004T170000
DTSTAMP:20260424T175957
CREATED:20230725T074500Z
LAST-MODIFIED:20230725T074538Z
UID:6112-1696406400-1696438800@mes-dreieich.de
SUMMARY:Einschulung ServicefahrerInnen (Berufsschule)
DESCRIPTION:8:00 Uhr in Raum 4.211
URL:https://mes-dreieich.de/kalendereintrag/einschulung-servicefahrerinnen-berufsschule/
CATEGORIES:Für Interessierte,Für Schüler
END:VEVENT
BEGIN:VEVENT
DTSTART;TZID=Europe/Berlin:20230921T190000
DTEND;TZID=Europe/Berlin:20230921T210000
DTSTAMP:20260424T175957
CREATED:20230812T160148Z
LAST-MODIFIED:20230915T083302Z
UID:3461-1695322800-1695330000@mes-dreieich.de
SUMMARY:Elternabend
DESCRIPTION:Am Elternabend haben die Eltern Gelegenheit\, sich mit der Klassenleitung über die Perspektiven ihrer Kinder im neuen Schuljahr zu unterhalten. Außerdem werden die Elternvertreter/innen für den Klassenelternbeirat gewählt.
URL:https://mes-dreieich.de/kalendereintrag/elternabend/
CATEGORIES:Für Interessierte,Für Schüler
END:VEVENT
BEGIN:VEVENT
DTSTART;TZID=Europe/Berlin:20230905T090000
DTEND;TZID=Europe/Berlin:20230905T110000
DTSTAMP:20260424T175957
CREATED:20220721T155919Z
LAST-MODIFIED:20230720T063933Z
UID:4791-1693904400-1693911600@mes-dreieich.de
SUMMARY:Einschulung InteA
DESCRIPTION:Beginn: 9:00 Uhr in der Pausenhalle
URL:https://mes-dreieich.de/kalendereintrag/einschulung-intea/
CATEGORIES:Für Interessierte,Für Schüler
END:VEVENT
BEGIN:VEVENT
DTSTART;TZID=Europe/Berlin:20230904T100000
DTEND;TZID=Europe/Berlin:20230904T113000
DTSTAMP:20260424T175957
CREATED:20220520T102405Z
LAST-MODIFIED:20230720T063838Z
UID:4547-1693821600-1693827000@mes-dreieich.de
SUMMARY:Einschulung Berufsschule
DESCRIPTION:Beginn: 10:00 Uhr in der Aula \n 
URL:https://mes-dreieich.de/kalendereintrag/einschulung-berufsschule/
CATEGORIES:Für Interessierte,Für Schüler
END:VEVENT
BEGIN:VEVENT
DTSTART;TZID=Europe/Berlin:20220905T080000
DTEND;TZID=Europe/Berlin:20220905T100000
DTSTAMP:20260424T175957
CREATED:20220721T155831Z
LAST-MODIFIED:20220721T155831Z
UID:4789-1662364800-1662372000@mes-dreieich.de
SUMMARY:Einschulung FOS11 (Nachzügler)
DESCRIPTION:Beginn: 8:00 Uhr in der Aula
URL:https://mes-dreieich.de/kalendereintrag/einschulung-fos11-nachzuegler/
CATEGORIES:Für Interessierte,Für Schüler
END:VEVENT
BEGIN:VEVENT
DTSTART;TZID=Europe/Berlin:20211208T180000
DTEND;TZID=Europe/Berlin:20211208T193000
DTSTAMP:20260424T175957
CREATED:20211103T170010Z
LAST-MODIFIED:20211104T143015Z
UID:3621-1638986400-1638991800@mes-dreieich.de
SUMMARY:Info-Abend
DESCRIPTION:Das Berufliche Gymnasium\, die Fachoberschule und der Ausbildungszweig Fremdsprachenassistenz laden herzlich zu einem Info-Abend ein. \nHier stellen wir unsere Schulformen\, die Schwerpunktfächer sowie alles was unsere Schule für junge Menschen mit Mittlerem Abschluss so besonders macht vor und beantworten gerne Ihre Fragen. \nDurch den Abend werden Sie die Abteilungsleiter*innen Petra Hillmer (Fremdsprachenassistenz)\, Maria Schindler (Fachoberschule)\, Dr. Klaus Wessel (Berufliches Gymnasium) und Florian Mohr (Berufliches Gymnasium) führen. \nDiese Veranstaltung wird in einer Online-Schaltung stattfinden. Melden Sie sich hier (Anmeldeseite) an und Sie erhalten am Tag der Veranstaltung einen Link per E-Mail\, mit dem Sie sich bequem einloggen können. \nWir danken für Ihr Interesse und freuen uns auf Sie!
URL:https://mes-dreieich.de/kalendereintrag/info-abend/
CATEGORIES:Für Interessierte
END:VEVENT
BEGIN:VEVENT
DTSTART;VALUE=DATE:20210614
DTEND;VALUE=DATE:20210615
DTSTAMP:20260424T175957
CREATED:20210604T112218Z
LAST-MODIFIED:20210605T073554Z
UID:3009-1623628800-1623715199@mes-dreieich.de
SUMMARY:BG Q4: Aushang Prüfungsplan Mündliches Abitur/Präsentationsprüfungen
DESCRIPTION:Berufliches Gymnasium Jahrgangsstufe Q4: Aushang des Prüfungsplans für die mündlichen Abiturprüfungen\, Präsentationsprüfungen und Zusatzprüfungen.
URL:https://mes-dreieich.de/kalendereintrag/bg-q4-aushang-pruefungsplan-muendliches-abitur-praesentationspruefungen/
CATEGORIES:Für Schüler
END:VEVENT
BEGIN:VEVENT
DTSTART;VALUE=DATE:20200702
DTEND;VALUE=DATE:20200703
DTSTAMP:20260424T175957
CREATED:20200622T093345Z
LAST-MODIFIED:20200622T093736Z
UID:472-1593648000-1593734399@mes-dreieich.de
SUMMARY:BG: Infoveranstaltung
DESCRIPTION:
URL:https://mes-dreieich.de/kalendereintrag/bg-infoveranstaltung/
CATEGORIES:Für Schüler
END:VEVENT
BEGIN:VEVENT
DTSTART;VALUE=DATE:20200626
DTEND;VALUE=DATE:20200627
DTSTAMP:20260424T175957
CREATED:20200622T083357Z
LAST-MODIFIED:20200622T093736Z
UID:461-1593129600-1593215999@mes-dreieich.de
SUMMARY:FOS 12: Verabschiedung der SchülerInnen
DESCRIPTION:
URL:https://mes-dreieich.de/kalendereintrag/fos-12-verabschiedung-der-schuelerinnen/
CATEGORIES:Für Schüler
END:VEVENT
END:VCALENDAR